BEGIN:VCALENDAR
METHOD:PUBLISH
PRODID:-//LogicWorks GmbH//NONSGML Contentory//EN
VERSION:2.0
CALSCALE:GREGORIAN
X-MS-OLK-FORCEINSPECTOROPEN:TRUE
BEGIN:VEVENT
DTSTAMP:20260422T103625Z
SUMMARY:Neuausrichtung MID
DESCRIPTION:Nach fast dreijähriger Laufzeit wird das Förderprogramm MID weiterentwic
 kelt. Die Änderungen gelten ab 01. Mai 2023.\r\nZusammen mit den NRW.Inno
 vationspartnern informieren der Projektträger Jülich und das Ministerium
  für Wirtschaft\, Industrie\, Klimaschutz und Energie des Landes Nordrhei
 n-Westfalen über die wesentlichen Neuerungen in den Teilprogrammen MID-Gu
 tscheine\, MID-Assistent/in und MID-Digitale Sicherheit. Die Veranstaltung
  findet am 09. Mai 2023 online von 12:00 bis 12:30 Uhr statt.\r\nWeitere I
 nformationen und die Möglichkeit zur kostenlosen Anmeldung finden Sie in 
 Kürze hier.
LOCATION:online
CREATED:20230425T100350
LAST-MODIFIED:20230503T123223
DTSTART;VALUE=DATE:20230509T120000
DTEND;VALUE=DATE:20230509T123000
UID:sn_305_date_0@logic-works.net
END:VEVENT
END:VCALENDAR