BEGIN:VCALENDAR
METHOD:PUBLISH
PRODID:-//LogicWorks GmbH//NONSGML Contentory//EN
VERSION:2.0
CALSCALE:GREGORIAN
X-MS-OLK-FORCEINSPECTOROPEN:TRUE
BEGIN:VEVENT
DTSTAMP:20260422T041107Z
SUMMARY:Infoveranstaltung
DESCRIPTION:Die Kompetenzplattform KI.NRW veranstaltet im Rahmen ihrer digitalen Veran
 staltungsreihe AI2GO eine Infoveranstaltung zum Förderprogramm Mittelstan
 d Innovativ & Digital. Nina Rieger vom MWIDE und Dr. Sebastian Dziallach v
 om Projektträger Jülich werden insbesondere die MID-Gutscheine vorstelle
 n. Ein Best-Practice-Beispiel gibt Einblicke in die Anwendung des Förderp
 rogramms und zeigt\, wie die Stadtwerke Oerlinghausen von der Kooperation 
 mit der Fachhochschule Südwestfalen profitieren konnten.\r\nDie virtuelle
  Session richtet sich neben KMU ausdrücklich an Universitäten und Forsch
 ungseinrichtungen\, die im Rahmen eines Kurz-Pitches ihre Beratungskompete
 nzen vorstellen können. Im Anschluss können die Teilnehmer/innen Fragen 
 zur Antragstellung und zu verschiedenen Fördermöglichkeiten stellen.\r\n
 Weitere Informationen und die Möglichkeit zur Anmeldung finden Sie hier.
LOCATION:online
CREATED:20201029T160409
LAST-MODIFIED:20201029T160813
DTSTART;VALUE=DATE:20201117T090000
DTEND;VALUE=DATE:20201117T103000
UID:sn_245_date_0@logic-works.net
END:VEVENT
END:VCALENDAR