BEGIN:VCALENDAR
METHOD:PUBLISH
PRODID:-//LogicWorks GmbH//NONSGML Contentory//EN
VERSION:2.0
CALSCALE:GREGORIAN
X-MS-OLK-FORCEINSPECTOROPEN:TRUE
BEGIN:VEVENT
DTSTAMP:20260422T011710Z
SUMMARY:Infoveranstaltung
DESCRIPTION:Wie funktioniert das Förderprogramm Mittelstand Innovativ & Digital? Welc
 he Projekte können mit den beiden Teilprogrammen MID-Gutscheine und MID-A
 ssistent/in umgesetzt werden? Für welche Projekte kann welche Förderung 
 beantragt werden?\r\nDiese Fragen beantwortet Nina Rieger\, Referentin im 
 Ministerium für Wirtschaft\, Innovation\, Digitalisierung und Energie des
  Landes Nordrhein-Westfalen\, im Rahmen der neuen Veranstaltungsreihe Trei
 bstoff für Ihren Neustart der NRW.Innovationspartner am 20.05.2021. \r\nW
 eitere Informationen und die Möglichkeit zur kostenlosen Anmeldung finden
  Sie  hier.
LOCATION:online
CREATED:20210510T133018
LAST-MODIFIED:20210510T134111
DTSTART;VALUE=DATE:20210520T170000
DTEND;VALUE=DATE:20210520T173000
UID:sn_257_date_0@logic-works.net
END:VEVENT
END:VCALENDAR