BEGIN:VCALENDAR
METHOD:PUBLISH
PRODID:-//LogicWorks GmbH//NONSGML Contentory//EN
VERSION:2.0
CALSCALE:GREGORIAN
X-MS-OLK-FORCEINSPECTOROPEN:TRUE
BEGIN:VEVENT
DTSTAMP:20260422T063407Z
SUMMARY:Online-Seminar zur Antragstellung
DESCRIPTION:Die WirtschaftsfÃ¶rderung Paderborn veranstaltet ein Online-Seminar zum FÃ
 ¶rderprogramm Mittelstand Innovativ & Digital. Es wird Ã¼ber die Ausrichtu
 ng des Programms informiert und die Teilnehmer/innen kÃ¶nnen Fragen zur An
 tragstellung und zu verschiedenen FÃ¶rdermÃ¶glichkeiten stellen.\r\nBei In
 teresse melden Sie sich bitte Ã¼berÂ Doodle an\; der Zugangslink zur Platt
 form\, auf der das Seminar stattfindet\, wird dann zugesendet.Â 
LOCATION:online
CREATED:20200904T120918
LAST-MODIFIED:20200904T122746
DTSTART;VALUE=DATE:20201007T170000
DTEND;VALUE=DATE:20201007T183000
UID:sn_241_date_0@logic-works.net
END:VEVENT
END:VCALENDAR