BEGIN:VCALENDAR
METHOD:PUBLISH
PRODID:-//LogicWorks GmbH//NONSGML Contentory//EN
VERSION:2.0
CALSCALE:GREGORIAN
X-MS-OLK-FORCEINSPECTOROPEN:TRUE
BEGIN:VEVENT
DTSTAMP:20260422T012053Z
SUMMARY:Online-Seminar
DESCRIPTION:Kurz & knackig: In diesem Online-Seminar in Zusammenarbeit mit den NRW.Inn
 ovationspartnern stellen wir Ihnen insbesondere den neuesten Zuwachs der M
 ID-Förderfamilie vor: MID-Digitale Sicherheit.\r\nSie haben Lust auf eine
  informative Mittagspause? Weitere Informationen und die Möglichkeit zur 
 kostenlosen Anmeldung finden Sie auf der Seite der NRW.Innovationspartner.
LOCATION:online
CREATED:20220926T152254
LAST-MODIFIED:20221004T112017
DTSTART;VALUE=DATE:20221011T133000
DTEND;VALUE=DATE:20221011T140000
UID:sn_286_date_0@logic-works.net
END:VEVENT
END:VCALENDAR