BEGIN:VCALENDAR
METHOD:PUBLISH
PRODID:-//LogicWorks GmbH//NONSGML Contentory//EN
VERSION:2.0
CALSCALE:GREGORIAN
X-MS-OLK-FORCEINSPECTOROPEN:TRUE
BEGIN:VEVENT
DTSTAMP:20260422T040810Z
SUMMARY:Online-Seminar
DESCRIPTION:In diesem Online-Seminar in Zusammenarbeit mit DIGITAL.SICHER.NRW stellen 
 wir Ihnen insbesondere den neuesten Zuwachs der MID-Förderfamilie vor: MI
 D-Digitale Sicherheit.\r\nWeitere Informationen und die Möglichkeit zur k
 ostenlosen Anmeldung finden Sie auf der Seite von DIGITAL.SICHER.NRW.
LOCATION:online
CREATED:20221012T164835
LAST-MODIFIED:20221012T164928
DTSTART;VALUE=DATE:20221021T100000
DTEND;VALUE=DATE:20221021T235959
UID:sn_288_date_0@logic-works.net
END:VEVENT
END:VCALENDAR