BEGIN:VCALENDAR
METHOD:PUBLISH
PRODID:-//LogicWorks GmbH//NONSGML Contentory//EN
VERSION:2.0
CALSCALE:GREGORIAN
X-MS-OLK-FORCEINSPECTOROPEN:TRUE
BEGIN:VEVENT
DTSTAMP:20260422T011716Z
SUMMARY:Umsetzungstag digitale Sicherheit
DESCRIPTION:Nicht warten\, starten! - Unter diesem Motto zeigt am 26. Juni 2025 der Um
 setzungstag von DIGITAL.SICHER.NRW\, wie Sie Ihr Unternehmen fit in Sachen
  digitaler Sicherheit machen.
LOCATION:online
CREATED:20250523T140800
LAST-MODIFIED:20250523T160255
DTSTART;VALUE=DATE:20250626T090000
DTEND;VALUE=DATE:20250626T134500
UID:sn_327_date_0@logic-works.net
END:VEVENT
END:VCALENDAR