BEGIN:VCALENDAR
METHOD:PUBLISH
PRODID:-//LogicWorks GmbH//NONSGML Contentory//EN
VERSION:2.0
CALSCALE:GREGORIAN
X-MS-OLK-FORCEINSPECTOROPEN:TRUE
BEGIN:VEVENT
DTSTAMP:20260422T041225Z
SUMMARY:Webinar zur Antragstellung
DESCRIPTION:Zum Start des Förderprogramms Mittelstand Innovativ & Digital veranstalte
 n die NRW.Innovationspartner und die NRW.Bank ein Online-Webinar. Im Webin
 ar wird über die Ausrichtung des Programms informiert und es können Frag
 en zur Antragstellung und zu verschiedenen Fördermöglichkeiten gestellt 
 werden. Weitere Informationen und den Link zur Anmeldung finden Sie hier.
LOCATION:online
CREATED:20200529T202518
LAST-MODIFIED:20200602T104310
DTSTART;VALUE=DATE:20200619T100000
DTEND;VALUE=DATE:20200619T113000
UID:sn_233_date_0@logic-works.net
END:VEVENT
END:VCALENDAR